BEGIN:VCALENDAR
VERSION:2.0
PRODID:-//Beatdown - ECPv6.0.12//NONSGML v1.0//EN
CALSCALE:GREGORIAN
METHOD:PUBLISH
X-WR-CALNAME:Beatdown
X-ORIGINAL-URL:https://beatdownpromotions.com
X-WR-CALDESC:Events for Beatdown
REFRESH-INTERVAL;VALUE=DURATION:PT1H
X-Robots-Tag:noindex
X-PUBLISHED-TTL:PT1H
BEGIN:VTIMEZONE
TZID:UTC
BEGIN:STANDARD
TZOFFSETFROM:+0000
TZOFFSETTO:+0000
TZNAME:UTC
DTSTART:20230101T000000
END:STANDARD
END:VTIMEZONE
BEGIN:VEVENT
DTSTART;TZID=UTC:20231110T173000
DTEND;TZID=UTC:20231110T180000
DTSTAMP:20260424T144502
CREATED:20231107T172816Z
LAST-MODIFIED:20231107T172826Z
UID:120-1699637400-1699639200@beatdownpromotions.com
SUMMARY:Fight Night San Luis Obispo – MMA – Friday November 10th\, 2023
DESCRIPTION:Beatdown Promotions Presents: Fight Night is happening on Friday\, November 10\, 2023 at The Alex Madonna Expo Center. \n\nThis fight will be supporting local businesses and schools. Support the community and enjoy local food\, drinks\, and great fighters showcasing their talents. A fantastic event for all people in the San Luis Obispo area and the third fight brought to you by Beatdown Promotions. VIP tickets with ringside designated tables are available\, reach out to 805-235-1902 for inquiries.
URL:https://beatdownpromotions.com/event/fight-night-san-luis-obispo-mma-friday-november-10th-2023/
LOCATION:Alex Madonna Expo Center\, 120 Madonna Road\, San Luis Obispo\, CA\, 93401\, United States
CATEGORIES:MMA Events
ATTACH;FMTTYPE=image/jpeg:https://beatdownpromotions.com/wp-content/uploads/2023/11/11-10-crop.jpeg
END:VEVENT
BEGIN:VEVENT
DTSTART;TZID=UTC:20230609T173000
DTEND;TZID=UTC:20230609T220000
DTSTAMP:20260424T144502
CREATED:20230504T150621Z
LAST-MODIFIED:20230504T180511Z
UID:99-1686331800-1686348000@beatdownpromotions.com
SUMMARY:Fight Night San Luis Obispo - MMA - Friday June 9th\, 2023
DESCRIPTION:Beatdown Promotions Presents: Fight Night is happening on Friday\, June 9\, 2023 at The Alex Madonna Expo Center. \n\nThis fight will be supporting local businesses and schools. Support the community and enjoy local food\, drinks\, and great fighters showcasing their talents. A fantastic event for all people in the San Luis Obispo area and the third fight brought to you by Beatdown Promotions. VIP tickets with ringside designated tables are available\, reach out to 805-235-1902 for inquiries. \n\nDoors open at 5:30\nFights begin at 6:30\n$35 Presale Online\n$40 at the door\nRing side VIP $65\n\nWe will have the Bad Religion cover band “Dad Religion” Playing live on the stage at the show. Come check them out!
URL:https://beatdownpromotions.com/event/fight-night-san-luis-obispo-mma-friday-june-9th-2023/
LOCATION:Alex Madonna Expo Center\, 120 Madonna Road\, San Luis Obispo\, CA\, 93401\, United States
CATEGORIES:MMA Events
ATTACH;FMTTYPE=image/jpeg:https://beatdownpromotions.com/wp-content/uploads/2023/05/6-8-23-fight-night-1024x576-1.jpg
END:VEVENT
BEGIN:VEVENT
DTSTART;TZID=UTC:20230217T173000
DTEND;TZID=UTC:20230217T220000
DTSTAMP:20260424T144502
CREATED:20221228T174446Z
LAST-MODIFIED:20221231T000318Z
UID:23-1676655000-1676671200@beatdownpromotions.com
SUMMARY:Fight Night - MMA - February 17\, 2023
DESCRIPTION:Beatdown Promotions Presents: Fight Night is happening on Friday\, February 17\, 2023 at 05:30PM PST at Alex Madonna Expo Center with tickets starting at $30.00 \n\n\n\nThis fight will be supporting local businesses and schools. Support the community and enjoy local food\, drinks\, and great fighters showcasing their talents. A fantastic event for all people in the San Luis Obispo area and the third fight brought to you by Beatdown Promotions. VIP tickets with ringside designated tables are available\, reach out to 805-235-1902 for inquiries. \nBUY TICKETS HERE!
URL:https://beatdownpromotions.com/event/fight-night-mma-2-17-2023/
LOCATION:Alex Madonna Expo Center\, 120 Madonna Road\, San Luis Obispo\, CA\, 93401\, United States
CATEGORIES:MMA Events
ATTACH;FMTTYPE=image/jpeg:https://beatdownpromotions.com/wp-content/uploads/2022/12/Beatdown-Fight-night-2-17-2023.jpg
END:VEVENT
END:VCALENDAR